BEGIN:VCALENDAR
VERSION:2.0
PRODID:-//WARD MEMORIAL BAPTIST CHURCH - ECPv6.15.20//NONSGML v1.0//EN
CALSCALE:GREGORIAN
METHOD:PUBLISH
X-ORIGINAL-URL:https://wmbaptistchurch.ca
X-WR-CALDESC:Events for WARD MEMORIAL BAPTIST CHURCH
REFRESH-INTERVAL;VALUE=DURATION:PT1H
X-Robots-Tag:noindex
X-PUBLISHED-TTL:PT1H
BEGIN:VTIMEZONE
TZID:America/Vancouver
BEGIN:DAYLIGHT
TZOFFSETFROM:-0800
TZOFFSETTO:-0700
TZNAME:PDT
DTSTART:20210314T100000
END:DAYLIGHT
BEGIN:STANDARD
TZOFFSETFROM:-0700
TZOFFSETTO:-0800
TZNAME:PST
DTSTART:20211107T090000
END:STANDARD
BEGIN:DAYLIGHT
TZOFFSETFROM:-0800
TZOFFSETTO:-0700
TZNAME:PDT
DTSTART:20220313T100000
END:DAYLIGHT
BEGIN:STANDARD
TZOFFSETFROM:-0700
TZOFFSETTO:-0800
TZNAME:PST
DTSTART:20221106T090000
END:STANDARD
BEGIN:DAYLIGHT
TZOFFSETFROM:-0800
TZOFFSETTO:-0700
TZNAME:PDT
DTSTART:20230312T100000
END:DAYLIGHT
BEGIN:STANDARD
TZOFFSETFROM:-0700
TZOFFSETTO:-0800
TZNAME:PST
DTSTART:20231105T090000
END:STANDARD
END:VTIMEZONE
BEGIN:VEVENT
DTSTART;TZID=America/Vancouver:20220622T190000
DTEND;TZID=America/Vancouver:20220622T203000
DTSTAMP:20260421T023104
CREATED:20220619T045158Z
LAST-MODIFIED:20220619T045158Z
UID:1173-1655924400-1655929800@wmbaptistchurch.ca
SUMMARY:Wednesday Prayer
DESCRIPTION:Please get in touch with Ps.Jusuf or Ps.Gary for the zoom link.
URL:https://wmbaptistchurch.ca/event/wednesday-prayer-8/
CATEGORIES:Bible Study,Prayer
END:VEVENT
BEGIN:VEVENT
DTSTART;TZID=America/Vancouver:20220615T190000
DTEND;TZID=America/Vancouver:20220615T203000
DTSTAMP:20260421T023104
CREATED:20220612T040938Z
LAST-MODIFIED:20220612T040938Z
UID:1159-1655319600-1655325000@wmbaptistchurch.ca
SUMMARY:Wednesday Prayer
DESCRIPTION:Please get in touch with Ps.Jusuf or Ps.Gary for the zoom link.
URL:https://wmbaptistchurch.ca/event/wednesday-prayer-7/
CATEGORIES:Bible Study,Prayer
END:VEVENT
BEGIN:VEVENT
DTSTART;TZID=America/Vancouver:20220604T160000
DTEND;TZID=America/Vancouver:20220604T173000
DTSTAMP:20260421T023104
CREATED:20220529T003801Z
LAST-MODIFIED:20220529T003801Z
UID:1133-1654358400-1654363800@wmbaptistchurch.ca
SUMMARY:Bible Study
DESCRIPTION:Contact Ps.Gary Hockridge and Hercules Tupas\, E. Van.\, every Saturday @ 4:00 p.m. on Zoom.
URL:https://wmbaptistchurch.ca/event/bible-study/
CATEGORIES:Bible Study
END:VEVENT
BEGIN:VEVENT
DTSTART;TZID=America/Vancouver:20220601T190000
DTEND;TZID=America/Vancouver:20220601T203000
DTSTAMP:20260421T023104
CREATED:20220529T003621Z
LAST-MODIFIED:20220529T003621Z
UID:1131-1654110000-1654115400@wmbaptistchurch.ca
SUMMARY:Wednesday Prayer
DESCRIPTION:Please contact Ps.Jusuf – jusuf@wmbaptistchurch.ca for ZOOM details.
URL:https://wmbaptistchurch.ca/event/wednesday-prayer-6/
CATEGORIES:Bible Study,Prayer
END:VEVENT
BEGIN:VEVENT
DTSTART;TZID=America/Vancouver:20220525T190000
DTEND;TZID=America/Vancouver:20220525T203000
DTSTAMP:20260421T023104
CREATED:20220521T223428Z
LAST-MODIFIED:20220521T223428Z
UID:1106-1653505200-1653510600@wmbaptistchurch.ca
SUMMARY:Wednesday Prayer
DESCRIPTION:Please contact Ps.Jusuf for zoom details.
URL:https://wmbaptistchurch.ca/event/wednesday-prayer-5/
CATEGORIES:Bible Study,Prayer
END:VEVENT
BEGIN:VEVENT
DTSTART;TZID=America/Vancouver:20220518T190000
DTEND;TZID=America/Vancouver:20220518T203000
DTSTAMP:20260421T023104
CREATED:20220515T080717Z
LAST-MODIFIED:20220515T080717Z
UID:1078-1652900400-1652905800@wmbaptistchurch.ca
SUMMARY:Wednesday Prayer
DESCRIPTION:Please contact Ps.Jusuf for zoom details.
URL:https://wmbaptistchurch.ca/event/wednesday-prayer-4/
CATEGORIES:Bible Study,Prayer
END:VEVENT
BEGIN:VEVENT
DTSTART;TZID=America/Vancouver:20220504T190000
DTEND;TZID=America/Vancouver:20220504T203000
DTSTAMP:20260421T023104
CREATED:20220501T002839Z
LAST-MODIFIED:20220501T002839Z
UID:925-1651690800-1651696200@wmbaptistchurch.ca
SUMMARY:Wednesday Prayer Time
DESCRIPTION:Contact Ps.Jusuf for the Zoom link
URL:https://wmbaptistchurch.ca/event/wednesday-prayer-time/
CATEGORIES:Bible Study,Prayer
END:VEVENT
END:VCALENDAR