BEGIN:VCALENDAR
VERSION:2.0
PRODID:-//WARD MEMORIAL BAPTIST CHURCH - ECPv6.15.20//NONSGML v1.0//EN
CALSCALE:GREGORIAN
METHOD:PUBLISH
X-ORIGINAL-URL:https://wmbaptistchurch.ca
X-WR-CALDESC:Events for WARD MEMORIAL BAPTIST CHURCH
REFRESH-INTERVAL;VALUE=DURATION:PT1H
X-Robots-Tag:noindex
X-PUBLISHED-TTL:PT1H
BEGIN:VTIMEZONE
TZID:America/Vancouver
BEGIN:DAYLIGHT
TZOFFSETFROM:-0800
TZOFFSETTO:-0700
TZNAME:PDT
DTSTART:20210314T100000
END:DAYLIGHT
BEGIN:STANDARD
TZOFFSETFROM:-0700
TZOFFSETTO:-0800
TZNAME:PST
DTSTART:20211107T090000
END:STANDARD
BEGIN:DAYLIGHT
TZOFFSETFROM:-0800
TZOFFSETTO:-0700
TZNAME:PDT
DTSTART:20220313T100000
END:DAYLIGHT
BEGIN:STANDARD
TZOFFSETFROM:-0700
TZOFFSETTO:-0800
TZNAME:PST
DTSTART:20221106T090000
END:STANDARD
BEGIN:DAYLIGHT
TZOFFSETFROM:-0800
TZOFFSETTO:-0700
TZNAME:PDT
DTSTART:20230312T100000
END:DAYLIGHT
BEGIN:STANDARD
TZOFFSETFROM:-0700
TZOFFSETTO:-0800
TZNAME:PST
DTSTART:20231105T090000
END:STANDARD
END:VTIMEZONE
BEGIN:VEVENT
DTSTART;TZID=America/Vancouver:20220629T190000
DTEND;TZID=America/Vancouver:20220629T203000
DTSTAMP:20260424T123123
CREATED:20220626T045708Z
LAST-MODIFIED:20220626T045708Z
UID:1212-1656529200-1656534600@wmbaptistchurch.ca
SUMMARY:Wednesday Prayer
DESCRIPTION:Please contact Pastor Jusuf for the zoom info.
URL:https://wmbaptistchurch.ca/event/wednesday-prayer-9/
CATEGORIES:Prayer
END:VEVENT
END:VCALENDAR