BEGIN:VCALENDAR
VERSION:2.0
PRODID:-//WARD MEMORIAL BAPTIST CHURCH - ECPv6.15.20//NONSGML v1.0//EN
CALSCALE:GREGORIAN
METHOD:PUBLISH
X-WR-CALNAME:WARD MEMORIAL BAPTIST CHURCH
X-ORIGINAL-URL:https://wmbaptistchurch.ca
X-WR-CALDESC:Events for WARD MEMORIAL BAPTIST CHURCH
REFRESH-INTERVAL;VALUE=DURATION:PT1H
X-Robots-Tag:noindex
X-PUBLISHED-TTL:PT1H
BEGIN:VTIMEZONE
TZID:America/Vancouver
BEGIN:DAYLIGHT
TZOFFSETFROM:-0800
TZOFFSETTO:-0700
TZNAME:PDT
DTSTART:20240310T100000
END:DAYLIGHT
BEGIN:STANDARD
TZOFFSETFROM:-0700
TZOFFSETTO:-0800
TZNAME:PST
DTSTART:20241103T090000
END:STANDARD
BEGIN:DAYLIGHT
TZOFFSETFROM:-0800
TZOFFSETTO:-0700
TZNAME:PDT
DTSTART:20250309T100000
END:DAYLIGHT
BEGIN:STANDARD
TZOFFSETFROM:-0700
TZOFFSETTO:-0800
TZNAME:PST
DTSTART:20251102T090000
END:STANDARD
BEGIN:DAYLIGHT
TZOFFSETFROM:-0800
TZOFFSETTO:-0700
TZNAME:PDT
DTSTART:20260308T100000
END:DAYLIGHT
BEGIN:STANDARD
TZOFFSETFROM:-0700
TZOFFSETTO:-0800
TZNAME:PST
DTSTART:20261101T090000
END:STANDARD
END:VTIMEZONE
BEGIN:VEVENT
DTSTART;TZID=America/Vancouver:20250427T103000
DTEND;TZID=America/Vancouver:20250427T120000
DTSTAMP:20260421T183445
CREATED:20250427T171219Z
LAST-MODIFIED:20250427T171219Z
UID:2076-1745749800-1745755200@wmbaptistchurch.ca
SUMMARY:Sunday Worship Service
DESCRIPTION:WARD  MEMORIAL BAPTIST CHRUCH\n“My House will be called A House of Prayer For all Nations”  Isaiah 56:7 ~ Mark 11:17 \nMISSION:  “Making God known by sharing the Love of Christ.” \nVISION: “Transformation”- Romans 12:2  \nOrder of Service: 10:30 a.m. to 12:00 p.m.\n\n\n\nOpening Prayer/Worship: Worship Team\n\n\nScripture Reading: Psalms 89:1-9 \n\n\n1 I will sing of the Lord’s great love forever;\n    with my mouth I will make your faithfulness known\n    through all generations.\n2 I will declare that your love stands firm forever\,\n    that you have established your faithfulness in heaven itself.\n3 You said\, “I have made a covenant with my chosen one\,\n    I have sworn to David my servant\,\n4 ‘I will establish your line forever\n    and make your throne firm through all generations.’”[c] \n\n\n5 The heavens praise your wonders\, Lord\,\n    your faithfulness too\, in the assembly of the holy ones.\n6 For who in the skies above can compare with the Lord?\n    Who is like the Lord among the heavenly beings?\n7 In the council of the holy ones God is greatly feared;\n    he is more awesome than all who surround him.\n8 Who is like you\, Lord God Almighty?\n    You\, Lord\, are mighty\, and your faithfulness surrounds you. \n\n\n9 You rule over the surging sea;\n    when its waves mount up\, you still them. \n\nSermon: Ps.Jeremy Kwan on “His Glory\, not ours” \n\n\n\n\nPraise and Worship: contd..\n\n\nBenediction\n\n\n\nAnnouncements \nBaptism: Speak with Pastor Jusuf if you are interested in baptism. \nWMBC is… \n(Vision Statement) “Making God known by sharing the Love of Christ.” \n(Mission Statement) “Transformation”- Romans 12:2 (Vision Statement) \n– All are welcome at WMBC \nPrayer Sessions: Time –Wednesday: 7:00-8:30 p.m.; Thursday: 7:00 p.m.; Sundays: 9:45 a.m. \nLIVE STREAMING OF WMBC SERVICES WILL BE ON SUNDAYS @ 10:30 A.M. https://wmbaptistchurch.ca In-person church services commence at 10:30 A.M.  Invite families and friends. \nPrayer Care / Concerns: Church Ministries; Church Unity and Growth;  Missionaries;  2025 Federal Elections                                 ( Advanced- April\, 18\, 19\, 20\, 21; Final Voting Day- April 28) ; Israel / Palestine\, Haiti\, Afghanistan\,  Sudan\, Russia and Ukraine; Turkey / Syria ; South Korea\, US\, Myanmar; Families’ displacement in countries due to wars\, natural or man-made disasters\, etc.;  Peace/Safety Officers;  Shelters\, Unhoused;  Peace and Harmony across Canada / USA\, Reconciliation; Indigenous National Truth and Reconciliation; 2025 Shining Stars After- school programs\, Parents\, Staff and Volunteers; Celebration Zone; Korean Fellowship; Seniors Enrichment Time (SET)\, Young Adults; Brothers and sisters who are ill. \nMission Focus:\nLong Term Missions:\nTim and Kellie Hutton-Bolivia; Bill and Janice Dyck-Bolivia \nPaul & Sharyn Branson-Dominican Republic\nJanzens-Brazil \nLocal Mission Outreach \n-Shining Stars after- school –contact Yvonne M. Jones or Jennifer Lee. \n-Seniors Enrichment Time (SET) –contact Pastor Jusuf Wijaya /Jennifer Lee. \nA warm Ward welcome if you are visiting in-person or online with us today. Contact Pastors with special prayer requests or concerns. THANKS   \nNote: Donate your bottles and cans to G&I Shining Stars Youth Society. Proceeds go towards children locally and beyond\, as well as care meals for the Vancouver’s Downtown East side. \nFinancial Donations are accepted throughout the year: It’s life giving as you impact lives into the generations. \nCelebration Zone for Children/ Youth – Sundays @10:30 a.m. \nESL Classes: Tuesdays and Thursdays\, 7:00 p.m. – 9:00 p.m. (TBA) in the downstairs Fellowship Hall.  Interested Volunteer teachers\, contact Yvonne. \nHealth and Safety Precautions \nPray without ceasing\, continue to be diligent.\nStay home\, especially if showing symptoms.\nWash hands frequently with soap and water.\nSanitize hands and surfaces.\nWear masks; still consider others (if in enclosed areas) \nHome Groups: -Sephora Pierre-Louis and Hercules Tupas\, E. Van.\, on Zoom\, Saturdays @7:00 p.m. \n-East Van House Group (in person) Meeting: First Saturday of every month @ 1530hr. Contact Ps. Jeremy Kwan for details. \nOur Outreach Ministries\nESL Classes: Tues/Thurs @ 7:00 – 9:00 p.m.  (To be confirmed) \nS.E.T.: Senior Enrichment Time @ 11:30 a.m. – 2:00 p.m. every 1st Friday of the month.  Next S.E.T – Friday\, May 2\, 2025 . Special Field Trip to Tulip Festival in  Abbotsford\,   3663 Marion Rd\, BC  V3G 2J6.  Cost to date : $35 including lunch\, transportation and entrance fee. Available space: 55 persons.  Reserve  early with Jennifer Lee\, 604-880 1311 or  604-307-9237. Plan to have a wonderful time. Bus will depart from WMBC at 10:00 a.m.  Note:  A full capacity helps to keep the cost reasonable.  \nShining Stars after-School Tutoring and Bible Club/ Youth Activities: Tuesdays\, Wednesdays\, @ 3:30 – 6:30 p.m.; Thursdays (TBA); Connections / Youth: Fridays\, 3:30 – 5:30 p.m./ 5:30 – 9:30 p.m. (Special Events have later ending time but youth will be dropped off at their respective homes).  For Friday’s weekly events\, contact Jen or Yvonne. Note: Youth Alpha series follows tutorials and dinner\, ending with special activities. \nHigh School Youth Fellowship – Friday night\, 5:30 p.m. @ Ward Memorial Baptist Church. Contact: Jeremy\, Kyla for more information for weekly events! Or join on Discord Server if you would like to be a part of our community! \nYoung Adults Fellowship – Sunday afternoon from 1:00 p.m.- 4:00 p.m. Contact Lorna or Simon\, for more information for weekly events! \nShining Stars Spring Break KidsFest- Thanks \nThanks to God for Volunteers\, Prayer Warriors\, Campers and Parents. \nWe welcomed and interacted with Thirty-Five children / youth. \nWe also extend thanks to Vancouver Christian School Teachers and Students for partnering with us\, the week prior to the onset of Shining Stars Spring Break KidsFest during their PEAK week. This helped us with preparation and gave the students a chance to know the community and participated in Community Clean-up with Hastings Sunrise Community Police Centre. \nSERVE \n  \nON GOING FUNDRAISERS TO SUPPORT WMBC YOUTH/YA TEAM ON MISSION IN JULY 6-12\, 2025. CONTACT YOUTH PASTOR JEREMY KWAN FOR DETAILS. \nSERVE is like the best parts of summer camp combined with the best parts of a short-term service trip. (Excerpt) \nShining Stars Bridges of Friendship Banquet Fundraiser to support Kids Outreach \nMark the Date! Friday\, April 25\, 2025 \n21st Annual Bridges of Friendship Dinner & Silent Auction fundraising event will be held on Friday April 25th\, 2025\, at Our Lady of Sorrows Elementary School Gym\, 555 Slocan Street\, Vancouver at 6:30 p.m. We are thankful for their generosity in allowing us to use this location. Tickets will be $40 each payable via e-transfer gissys.adm@gmail.com (challenging as it is\, the tickets are the same as last year). Kindly consider inviting friends and / or families and enjoy an amazing evening. Contact Jennifer\, 604-880-1311 or Yvonne- 604-307-9237. \n \nVision School – Contact Chris Lim for location. Prayers requested for Vision school sending missionaries. \nOther Events \n Congratulations to Jordan and Hannah on their upcoming nuptials!! \n \nKeep them close to your hearts with ongoing prayers. \n  \nMission to Dominican Republic: Contact Yvonne @ 604-307-9237\, if your heart is being propelled by the Holy Spirit. Pray! Pray! \nFROM MISSION FEST SOCIETY (MFS) \nTHANK YOU! \nWords can’t express how grateful our hearts are for all who came\, exhibited\, served\, and made Mission Fest BC 2025 happen! The testimonies of healing\, salvation\, and freedom have been gloriously pointing to the One who was truly in our midst! Each day of the conference was filled with wonderful conversations\, powerful worship\, and encounters with Jesus. \nMFS Request- Partner with Us—for one more miracle! \nWe need another miracle from Jesus to finish funding Mission Fest BC 2025\, and we would love your prayers! As of this week\, we still need about $15\,000 to cover conference costs.\nIf Jesus moves your heart to contribute financially\, we will be so thankful for your partnership in this work! Please give as and if He leads. \nBC & Yukon Baptist Women’s  update \n \n  \nMeet CBWC New Pastors!!  Recognize Anyone!! \n \nPraise God from whom all Blessings flow!! Keep new ministers in prayers!! \n April 25 @ 9:00 am – 12:00 pm \nVancouver\, BC:  Finding Real Friendships in Pastoral Ministry: A Pathway from Loneliness to Community \nSt. Andrew’s Hall 6040 Iona Drive\, Vancouver\, BC\, Canada \nMinistry is meaningful—but it can also be lonely. Many pastors and church leaders experience isolation in their work. Join Dr. Dustin Benac and Rev. Mardi Dopho-Smith for input and discussion […] \nMay 10 @ 9:30 am – 3:00 pm \nSurrey\, BC: Spreading the Word Writing Conference \nSemiahmoo Arts Society Turnbull Gallery 14601 – 20 Avenue\, Surrey\, BC\, Canada \nSurrey Christian Writers\, a chapter of The Word Guild\, is hosting a one-day mini writing conference. Spreading the Word will take place Saturday May 10\, from 9:30 AM to 3 […] \n May 10 @ 7:30 pm – 9:30 pm \nLangley\, BC: Brian Doerksen \nFort Langley Community Hall 9167 Glover Road\, Langley\, BC\, Canada \nOld Fashioned Dance celebrating ‘Love For A Lifetime’ Album Release Join Brian and an award-winning live band along with DJ spinning classic love songs to celebrate his brand new […] \nEncouragement Verses \n\n1 John 4:8: “Whoever does not love does not know God\, because God is love”\nJohn 3:16 “For God so loved the world that he gave his one and only Son\, that whoever believes in him shall not perish but have eternal life.”\nJohn 11: 25-26  Jesus said to her\, “I am the resurrection and the life. The one who believes in me will live\, even though they die; 26 and whoever lives by believing in me will never die. Do you believe this?”\n John 15:5  “I am the vine; you are the branches. If you remain in me and I in you\, you will bear much fruit; apart from me you can do nothing.\n Romans 8:37-38  No\, in all these things we are more than conquerors through him who loved us. 38 For I am convinced that neither death nor life\, neither angels nor demons\, neither the present nor the future\, nor any powers\, 39 neither height nor depth\, nor anything else in all creation\, will be able to separate us from the love of God that is in Christ Jesus our Lord.\n\nLet us pray for peaceful federal elections\, cessation of current wars\, elimination of toxic rhetoric\, wise earthly leaders\, and allow hope\, joy\, love to reign in all our hearts so that true peace can be experienced.
URL:https://wmbaptistchurch.ca/event/sunday-worship-service-53/
LOCATION:Ward Memorial Baptist Church\, 465 Kamploops St\, Vancouver\, BC\, Canada
CATEGORIES:Sunday Worship
END:VEVENT
END:VCALENDAR