BEGIN:VCALENDAR
VERSION:2.0
PRODID:-//WARD MEMORIAL BAPTIST CHURCH - ECPv6.15.20//NONSGML v1.0//EN
CALSCALE:GREGORIAN
METHOD:PUBLISH
X-ORIGINAL-URL:https://wmbaptistchurch.ca
X-WR-CALDESC:Events for WARD MEMORIAL BAPTIST CHURCH
REFRESH-INTERVAL;VALUE=DURATION:PT1H
X-Robots-Tag:noindex
X-PUBLISHED-TTL:PT1H
BEGIN:VTIMEZONE
TZID:America/Vancouver
BEGIN:DAYLIGHT
TZOFFSETFROM:-0800
TZOFFSETTO:-0700
TZNAME:PDT
DTSTART:20240310T100000
END:DAYLIGHT
BEGIN:STANDARD
TZOFFSETFROM:-0700
TZOFFSETTO:-0800
TZNAME:PST
DTSTART:20241103T090000
END:STANDARD
BEGIN:DAYLIGHT
TZOFFSETFROM:-0800
TZOFFSETTO:-0700
TZNAME:PDT
DTSTART:20250309T100000
END:DAYLIGHT
BEGIN:STANDARD
TZOFFSETFROM:-0700
TZOFFSETTO:-0800
TZNAME:PST
DTSTART:20251102T090000
END:STANDARD
BEGIN:DAYLIGHT
TZOFFSETFROM:-0800
TZOFFSETTO:-0700
TZNAME:PDT
DTSTART:20260308T100000
END:DAYLIGHT
BEGIN:STANDARD
TZOFFSETFROM:-0700
TZOFFSETTO:-0800
TZNAME:PST
DTSTART:20261101T090000
END:STANDARD
END:VTIMEZONE
BEGIN:VEVENT
DTSTART;TZID=America/Vancouver:20250223T103000
DTEND;TZID=America/Vancouver:20250223T120000
DTSTAMP:20260421T212817
CREATED:20250223T082713Z
LAST-MODIFIED:20250223T082828Z
UID:2041-1740306600-1740312000@wmbaptistchurch.ca
SUMMARY:Sunday Worship Service
DESCRIPTION:WARD  MEMORIAL BAPTIST CHRUCH\n“My House will be called A House of Prayer For all Nations”  Isaiah 56:7 ~ Mark 11:17 \nMISSION:  “Making God known by sharing the Love of Christ.” \nVISION: “Transformation”- Romans 12:2  \nOrder of Service: 10:30 a.m. to 12:00 p.m.\n\n\n\nOpening Prayer/Worship: Worship Team\n\n\nScripture Reading: Matthew 13:34 \nJesus spoke all these things to the crowd in parables; he did not say anything to them without using a parable. \nSermon: Ps.Jusuf Wijaya on “The parable of the yeast: Unseen Yet Great Transformations”\n\n\n\nPraise and Worship: contd..\n\n\nBenediction\n\n\n\n  \nAnnouncements\nBaptism: Speak with Pastor Jusuf if you are interested in baptism. \nPrayer Sessions: Time –Wednesday: 7:00-8:30 p.m.; Thursday: 7:00 p.m.; Sundays: 9:45 a.m. \nLIVE STREAMING OF WMBC SERVICES WILL BE ON SUNDAYS @ 10:30 A.M. https://wmbaptistchurch.ca In-person church services commence at 10:30 A.M.  Invite families and friends. \nPrayer Care / Concerns: Church Ministries; Church Unity and Growth; Missionaries; Fire Impacted areas and persons; Community; Israel / Palestine\, Haiti\, Afghanistan\,  Sudan\, Russia and Ukraine; Turkey / Syria ; South Korea\, US\, Caribbean Islands and other hurricane impacted areas; Families’ displacement in countries due to wars\, natural or man-made disasters\, etc.; Peace/Safety Officers;  Shelters\, Unhoused;  Peace and Harmony across Canada / USA\, Reconciliation; Indigenous National Truth and Reconciliation; 2025 Shining Stars After- school programs\, Parents\, Staff and Volunteers; Celebration Zone; Korean Fellowship; Seniors Enrichment Time (SET)\, Young Adults; Brothers and sisters who are ill. \nMission Focus:\nLong Term Missions:\nTim and Kellie Hutton-Bolivia; Bill and Janice Dyck-Bolivia \nPaul & Sharyn Branson-Dominican Republic\nJanzens-Brazil \nLocal Mission Outreach \n-Shining Stars after- school –contact Yvonne M. Jones or Jennifer Lee. \n-Seniors Enrichment Time (SET) –contact Pastor Jusuf Wijaya /Jennifer Lee. \nA warm Ward welcome if you are visiting in-person or online with us today. Contact Pastors with special prayer requests or concerns. THANKS   \nNote: Donate your bottles and cans to G&I Shining Stars Youth Society. Proceeds go towards children locally and beyond\, as well as care meals for the Vancouver’s Downtown East side. \nFinancial Donations are accepted throughout the year: It’s life giving as you impact lives into the generations. \nCelebration Zone for Children/ Youth – Sundays @10:30 a.m. \nESL Classes: Tuesdays and Thursdays\, 7:00 p.m. – 9:00 p.m. (TBA) in the downstairs Fellowship Hall.  Interested Volunteer teachers\, contact Yvonne. \nHealth and Safety Precautions \nPray without ceasing\, continue to be diligent.\nStay home\, especially if showing symptoms.\nWash hands frequently with soap and water.\nSanitize hands and surfaces.\nWear masks; still consider others (if in enclosed areas) \nHome Groups: -Sephora Pierre-Louis and Hercules Tupas\, E. Van.\, on Zoom\, Saturdays @7:00 p.m. \n \n-East Van House Group (in person) Meeting: First Saturday of every month @ 1530hr. Contact Ps. Jeremy Kwan for details. \nOur Outreach Ministries\nESL Classes: Tues/Thurs @ 7:00 – 9:00 p.m.  (To be confirmed)\nS.E.T.: Senior Enrichment Time @ 11:30 a.m. – 2:00 p.m. every 1st Friday of the month. Next S.E.T – Mar 7\, 2025\, Contact: Jennifer Lee\, 604-880-1311. \nShining Stars after-School Tutoring and Bible Club/ Youth Activities: Tuesdays\, Wednesdays\, @ 3:30 – 6:30 p.m.; Thursdays (TBA); Connections / Youth: Fridays\, 3:30 – 5:30 p.m./ 5:30 – 9:30 p.m. (Special Events have later ending time but youth will be dropped off at their respective homes).  For Friday’s weekly events\, contact Jen or Yvonne. Note: Youth Alpha series follows tutorials and dinner\, ending with special activities. \nHigh School Youth Fellowship – Friday night\, 5:30 p.m. @ Ward Memorial Baptist Church. Contact: Jeremy\, Kyla for more information for weekly events! Or join on Discord Server if you would like to be a part of our community! \nYoung Adults Fellowship – Sunday afternoon from 1:00 p.m.- 4:00 p.m. Contact Lorna or Simon\, for more information for weekly events! \nON GOING FUNDRAISERS TO SUPPORT WMBC YOUTH/YA TEAM ON MISSION IN JULY 2025. \n \nCONTACT YOUTH PASTOR JEREMY KWAN FOR DETAILS. \nSERVE is like the best parts of summer camp combined with the best parts of a short-term service trip. (Excerpt) \nVision School – Contact Chris Lim for location. Prayers requested for Vision school sending missionaries. \nLogos Hope is Calling!!! \n\nFor anyone who wants to serve in the Caribbean in Kingston\, St. Vincent and tht Grenadines\, with the following possible date options:\n\nMarch 1-8\, 2025: OM Ship+; Flight round trip about C$1100 and costs for food and lodging (3 meals and cabin lodging) is C$350; Total about C$1450* \nMarch 15-26\,2025: OM Ship & Cuba ( Persecuted Church); Flight to Kingston\, then Cuba and return to Vancouver\, C$2270; Food $ Lodging on Logos Hope and then in Cuba (Visiting the persecuted church – commute\, meals\, lodging and blessing the persecuted church) C$1013; Total C$3283. \nFor more information\, contact Pastor Jusuf Wijaya\, 604-724-1158. \nOther Events \nWard Blessing Book Reports due February 2\, 2025\, Contact Jennifer Lee. \nWMBC Annual General Meeting : March 9\, 2025. \nMission to Dominican Republic: Contact Yvonne @ 604-307-9237\, if your heart is being propelled by the Holy Spirit. Pray! Pray! \nEncouragement Verses \n\n1 John 4:8: “Whoever does not love does not know God\, because God is love”\nEphesians 4:2: “We should be humble\, gentle\, patient\, and bear with one another in love.”\nMatthew 5:16:  “In the same way\, let your light shine before others\, that they may see your good deeds and glorify your Father in heaven.”\nDaniel 12:3 “Those who are wise will shine like the brightness of the heavens\, and those who lead many to righteousness\, like the stars for ever and ever.”\n\nLet us pray for cessation of current wars\, and allow hope\, joy\, love to reign in all our hearts so that true peace can be experienced. \n  \n 
URL:https://wmbaptistchurch.ca/event/sunday-worship-service-48/
LOCATION:Ward Memorial Baptist Church\, 465 Kamploops St\, Vancouver\, BC\, Canada
CATEGORIES:Sunday Worship
END:VEVENT
END:VCALENDAR