BEGIN:VCALENDAR
VERSION:2.0
PRODID:-//WARD MEMORIAL BAPTIST CHURCH - ECPv6.15.20//NONSGML v1.0//EN
CALSCALE:GREGORIAN
METHOD:PUBLISH
X-WR-CALNAME:WARD MEMORIAL BAPTIST CHURCH
X-ORIGINAL-URL:https://wmbaptistchurch.ca
X-WR-CALDESC:Events for WARD MEMORIAL BAPTIST CHURCH
REFRESH-INTERVAL;VALUE=DURATION:PT1H
X-Robots-Tag:noindex
X-PUBLISHED-TTL:PT1H
BEGIN:VTIMEZONE
TZID:America/Vancouver
BEGIN:DAYLIGHT
TZOFFSETFROM:-0800
TZOFFSETTO:-0700
TZNAME:PDT
DTSTART:20240310T100000
END:DAYLIGHT
BEGIN:STANDARD
TZOFFSETFROM:-0700
TZOFFSETTO:-0800
TZNAME:PST
DTSTART:20241103T090000
END:STANDARD
BEGIN:DAYLIGHT
TZOFFSETFROM:-0800
TZOFFSETTO:-0700
TZNAME:PDT
DTSTART:20250309T100000
END:DAYLIGHT
BEGIN:STANDARD
TZOFFSETFROM:-0700
TZOFFSETTO:-0800
TZNAME:PST
DTSTART:20251102T090000
END:STANDARD
BEGIN:DAYLIGHT
TZOFFSETFROM:-0800
TZOFFSETTO:-0700
TZNAME:PDT
DTSTART:20260308T100000
END:DAYLIGHT
BEGIN:STANDARD
TZOFFSETFROM:-0700
TZOFFSETTO:-0800
TZNAME:PST
DTSTART:20261101T090000
END:STANDARD
END:VTIMEZONE
BEGIN:VEVENT
DTSTART;TZID=America/Vancouver:20250518T103000
DTEND;TZID=America/Vancouver:20250518T120000
DTSTAMP:20260421T183935
CREATED:20250518T170357Z
LAST-MODIFIED:20250518T170357Z
UID:2094-1747564200-1747569600@wmbaptistchurch.ca
SUMMARY:Sunday Morning Worship
DESCRIPTION:WARD  MEMORIAL BAPTIST CHRUCH\n“My House will be called A House of Prayer For all Nations”  Isaiah 56:7 ~ Mark 11:17 \nMISSION:  “Making God known by sharing the Love of Christ.” \nVISION: “Transformation”- Romans 12:2  \nOrder of Service: 10:30 a.m. to 12:00 p.m.\n\n\n\nOpening Prayer/Worship: Worship Team\n\n\nScripture Reading: Matthew 24: 32-35 \n32 “Now learn this lesson from the fig tree: As soon as its twigs get tender and its leaves come out\, you know that summer is near. 33 Even so\, when you see all these things\, you know that it[a] is near\, right at the door. 34 Truly I tell you\, this generation will certainly not pass away until all these things have happened. 35 Heaven and earth will pass away\, but my words will never pass away. \n\nSermon: Ps. Jusuf Wijaya on “Pay attention to the signs!!” \n\n\n\n\nPraise and Worship: contd..\n\n\nBenediction\n\n\n\nAnnouncements \nBaptism: Speak with Pastor Jusuf if you are interested in baptism. \n  \nWMBC is… \n(Vision Statement) “Making God known by sharing the Love of Christ.” \n(Mission Statement) “Transformation”- Romans 12:2 (Vision Statement) \n– All are welcome at WMBC \nPrayer Sessions: Time –Wednesday: 7:00-8:30 p.m.; Thursday: 7:00 p.m.; Sundays: 9:45 a.m. \nLIVE STREAMING OF WMBC SERVICES WILL BE ON SUNDAYS @ 10:30 A.M. https://wmbaptistchurch.ca In-person church services commence at 10:30 A.M.  Invite families and friends. \nPrayer Care / Concerns: Church Ministries; Church Unity and Growth; Pastor Jusuf Wijaya’s brother and family in Indonesia\, Missionaries; Israel / Palestine\, Haiti\, Afghanistan\,  Sudan\, Russia and Ukraine; Turkey / Syria ; South Korea\, US\, Myanmar; Families’ displacement in countries due to wars\, natural or man-made disasters\, etc.;  Peace/Safety Officers;  Shelters\, Unhoused;  Peace and Harmony across Canada / USA\, Reconciliation; Indigenous National Truth and Reconciliation; 2025 Shining Stars After- school programs\, Parents\, Staff and Volunteers; Celebration Zone; Korean Fellowship; Seniors Enrichment Time (SET)\, Young Adults; Brothers and sisters who are ill. \nMission Focus:\nLong Term Missions:\nTim and Kellie Hutton-Bolivia; Bill and Janice Dyck-Bolivia \nPaul & Sharyn Branson-Dominican Republic\nJanzens-Brazil \nLocal Mission Outreach \n-Shining Stars after- school –contact Yvonne M. Jones or Jennifer Lee. \n-Seniors Enrichment Time (SET) –contact Pastor Jusuf Wijaya /Jennifer Lee. \nA warm Ward welcome if you are visiting in-person or online with us today. Contact Pastors with special prayer requests or concerns. THANKS   \nNote: Donate your bottles and cans to G&I Shining Stars Youth Society. Proceeds go towards children locally and beyond\, as well as care meals for the Vancouver’s Downtown East side. \nFinancial Donations are accepted throughout the year: It’s life giving as you impact lives into the generations. \nCelebration Zone for Children/ Youth – Sundays @10:30 a.m. \nESL Classes: Tuesdays and Thursdays\, 7:00 p.m. – 9:00 p.m. (TBA) in the downstairs Fellowship Hall.  Interested Volunteer teachers\, contact Yvonne. \nHealth and Safety Precautions \nPray without ceasing\, continue to be diligent.\nStay home\, especially if showing symptoms.\nWash hands frequently with soap and water.\nSanitize hands and surfaces.\nWear masks; still consider others (if in enclosed areas) \nHome Groups: -Sephora Pierre-Louis and Hercules Tupas\, E. Van.\, on Zoom\, Saturdays @7:00 p.m. \n-East Van House Group (in person) Meeting: First Saturday of every month @ 1530hr. Contact Ps. Jeremy Kwan for details. \nOur Outreach Ministries\nESL Classes: Tues/Thurs @ 7:00 – 9:00 p.m.  (To be confirmed)\nS.E.T.: Senior Enrichment Time @ 11:30 a.m. – 2:00 p.m. every 1st Friday of the month.         Next S.E.T – June 6\, 2025\, Contact: Jennifer Lee\, 604-880-1311. \nShining Stars after-School Tutoring and Bible Club/ Youth Activities: Tuesdays\, Wednesdays\, @ 3:30 – 6:30 p.m.; Thursdays (TBA); Connections / Youth: Fridays\, 3:30 – 5:30 p.m./ 5:30 – 9:30 p.m. (Special Events have later ending time but youth will be dropped off at their respective homes).  For Friday’s weekly events\, contact Jen or Yvonne. Note: Youth Alpha series follows tutorials and dinner\, ending with special activities. \nHigh School Youth Fellowship – Friday night\, 5:30 p.m. @ Ward Memorial Baptist Church. Contact: Jeremy\, Kyla for more information for weekly events! Or join on Discord Server if you would like to be a part of our community! \nYoung Adults Fellowship – Sunday afternoon from 1:00 p.m.- 4:00 p.m. Contact Lorna or Simon\, for more information for weekly events! \nShining Stars Spring Break KidsFest- Thanks \nThanks to God for Volunteers\, Prayer Warriors\, Campers and Parents. \nWe welcomed and interacted with Thirty-Five children / youth. \nWe also extend thanks to Vancouver Christian School Teachers and Students for partnering with us\, the week prior to the onset of Shining Stars Spring Break KidsFest during their PEAK week. This helped us with preparation and gave the students a chance to know the community and participated in Community Clean-up with Hastings Sunrise Community Police Centre. \nSERVE \n \nON GOING FUNDRAISERS TO SUPPORT WMBC YOUTH/YA TEAM ON MISSION IN JULY 6-12\, 2025. CONTACT YOUTH PASTOR JEREMY KWAN FOR DETAILS. \nSERVE is like the best parts of summer camp combined with the best parts of a short-term service trip. (Excerpt) \nSpecial Thanks: \nShining Stars Bridges of Friendship Banquet Fundraiser to support Kids Outreach \n21st Annual Bridges of Friendship Dinner & Silent Auction fundraising event was held on Friday April 25th\, 2025\, at Vancouver Christian School\,3961 Mons Drive\, Vancouver at 6:30 p.m. We are thankful for their generosity in allowing us to use this location in miraculous “nick of time” God moment. Despite challenges\, friends\, families helped and enjoyed an amazing evening. \nSpecial thanks to: God\, Prayer Warriors\, Friends of Shining Stars\, Financial Donators\, RBC\, Frank Gauthier Foundation\, WMBC\, GISSYS Board of Directors\, CSC – Global Ministries\, City in Focus\, Shining Stars Volunteers\, Auction Donors- Canadian Fishing Company (CANFISCO)\, Vancouver Canadian  Baseball\, Anton’s Pasta\, The Old spaghetti Factory\, The Keg Restaurant\, May/Dave Durley-Diverse Items\, Pascalina Chang- Diverse items\, Huey and Steve Kovacs-Diverse Items\, BC Lions Football\, Man Chi Chang\, Joyce Chung\, Tony Yue-Diverse Items\, Fresh Point\,  Hamuhk\, Pac Lee\, Canada Florist\, Jacqueline Chi\, Chat Small\, Ayoub Dried Fruit\, Whistler Give Away-Anonymous \, Tony Chong/Susie Wong-Diverse Items\, and other Anonymous Donors for support to outreach and empower Kids to be good citizens in their community and country. \nVision School – Contact Chris Lim for location. Prayers requested for Vision school sending missionaries. \nOther Events \nShining Stars Care Meals for the DTES:  \nThanks for all who volunteered and donated to teams on Thursday / Friday \, April 10 & 11\, 2025 ( Shining Stars\, WMBC \, Port Moody Grace Life Group\, Bassel Hakka Combined Team). \nNext Shining Stars Care Meals for the DTES\, June 13\, 2025. Financial Donations are accepted and appreciated. \nMission to Dominican Republic: Contact Yvonne @ 604-307-9237\, if your heart is being propelled by the Holy Spirit. Pray! Pray! \nBC & Yukon Baptist Women’s President’s update \n \nMay 10 @ 9:30 am – 3:00 pm \nSurrey\, BC: Spreading the Word Writing Conference \nSemiahmoo Arts Society Turnbull Gallery 14601 – 20 Avenue\, Surrey\, BC\, Canada \nSurrey Christian Writers\, a chapter of The Word Guild\, is hosting a one-day mini writing conference. Spreading the Word will take place Saturday May 10\, from 9:30 AM to 3 PM \nMay 10 @ 7:30 pm – 9:30 pm \nLangley\, BC: Brian Doerksen \nFort Langley Community Hall 9167 Glover Road\, Langley\, BC\, Canada \nOld Fashioned Dance celebrating ‘Love For A Lifetime’ Album Release Join Brian and an award-winning live band along with DJ spinning classic love songs to celebrate his brand new […] \nSaturday\, June 28\, 2025 \nMark the Date!  Shining Stars Health and Fitness Fundraiser @ Templeton Drive. \n5K Run!\, 5K Walk!\,  24 K Bike to and around Stanley Park!  \nVolleyball Tournament \nMAKE A PLEDGE\, BE A SPONSOR \nPARTICIPATE!  LUNCH!  PRIZES! In SUPPORT OF KIDS. \nEncouragement Verses \n\nHebrews 10:24“And let us consider how we may spur one another on toward love and good deeds “\nPhilippians 2:3-4 “Do nothing out of selfish ambition or vain conceit. Rather\, in humility value others above yourselves\, not looking to your own interests but each of you to the interests of the others”\nJohn 15:5“I am the vine; you are the branches. If you remain in me and I in you\, you will bear much fruit; apart from me you can do nothing”\nRomans 8:37-38  No\, in all these things we are more than conquerors through him who loved us. 38 For I am convinced that neither death nor life\, neither angels nor demons\, neither the present nor the future\, nor any powers\, 39 neither height nor depth\, nor anything else in all creation\, will be able to separate us from the love of God that is in Christ Jesus our Lord.\n\nLet us pray for all levels of governments\, and reduction of non-productive rhetoric\, harmony\, and beneficial working relationship for the country; cessation of current wars\, and allow hope\, joy\, love to reign in all our hearts so that true peace can be experienced.
URL:https://wmbaptistchurch.ca/event/sunday-morning-worship-2/
LOCATION:Ward Memorial Baptist Church\, 465 Kamploops St\, Vancouver\, BC\, Canada
CATEGORIES:Sunday Worship
END:VEVENT
END:VCALENDAR